8.25962443009485
0.00000000000000
0.00000000000000
-8.25962443009485
1059492.12981221500000
1002709.14140835990000
