8.25899104762357
0.00000000000000
0.00000000000000
-8.25899104762357
1092156.62949552390000
911749.31489935843000
