8.25939527503215
0.00000000000000
0.00000000000000
-8.25939527503215
1124491.87969763760000
911992.48589296581000
