8.25785485503729
0.00000000000000
0.00000000000000
-8.25785485503729
1059981.62892742760000
865987.98055005888000
