8.25594102649484
0.00000000000000
0.00000000000000
-8.25594102649484
995217.75297051319000
774606.44025984430000
