8.25703662179876
0.00000000000000
0.00000000000000
-8.25703662179876
1092858.12851831080000
775035.86843969789000
