8.59916878119111
0.00000000000000
0.00000000000000
-8.59916878119111
995241.42458439060000
729041.19163104706000
