8.25344751751982
0.00000000000000
0.00000000000000
-8.25344751751982
897025.25172375876000
683606.70183819591000
