8.59938571741804
0.00000000000000
0.00000000000000
-8.59938571741804
1060638.54969285870000
683713.53478093562000
