8.25333717197645
0.00000000000000
0.00000000000000
-8.25333717197645
929664.25166858593000
637931.44621809991000
