8.25458670023363
0.00000000000000
0.00000000000000
-8.25458670023363
1028046.31479335020000
637996.74174564215000
