8.25234131107572
0.00000000000000
0.00000000000000
-8.25234131107572
896656.62617065548000
592475.58298614854000
