8.25458776764572
0.00000000000000
0.00000000000000
-8.25458776764572
1126909.62729388380000
547441.08022878226000
