8.25195822911337
0.00000000000000
0.00000000000000
-8.25195822911337
962354.62597911456000
501181.93932027859000
