8.31342836137628
0.00000000000000
0.00000000000000
-8.31342836137628
796809.03171418072000
456405.71041372535000
