8.65898878459120
0.00000000000000
0.00000000000000
-8.65898878459120
863007.70449439227000
455936.38128824928000
