8.24999565584585
0.00000000000000
0.00000000000000
-8.24999565584585
895924.37499782792000
410219.22595293471000
