8.25127918616636
0.00000000000000
0.00000000000000
-8.25127918616636
995408.37563959311000
410088.75692234840000
