3.99953361951860
0.00000000000000
0.00000000000000
-3.99953361951860
762795.82868059643000
365585.16861247737000
