3.99926505020265
0.00000000000000
0.00000000000000
-3.99926505020265
796032.69015362835000
365279.05992984585000
