3.99899649783689
0.00000000000000
0.00000000000000
-3.99899649783689
829267.15763572173000
365022.17240352428000
