3.99872777133867
0.00000000000000
0.00000000000000
-3.99872777133867
862505.08992348204000
364815.77889540046000
