8.25244109745836
0.00000000000000
0.00000000000000
-8.25244109745836
1128106.12622054880000
365192.29687034513000
