3.99952564771611
0.00000000000000
0.00000000000000
-3.99952564771611
762342.32172378793000
320023.37157217372000
