3.99925592925983
0.00000000000000
0.00000000000000
-3.99925592925983
795645.94768885674000
319717.33583822660000
