8.25141262909165
0.00000000000000
0.00000000000000
-8.25141262909165
1095166.62570631460000
319391.33232199866000
