8.25185935379704
0.00000000000000
0.00000000000000
-8.25185935379704
1128402.62592967690000
319626.06848389667000
