8.24954157060711
0.00000000000000
0.00000000000000
-8.24954157060711
995477.37477078533000
273407.27853153076000
