8.25175897707231
0.00000000000000
0.00000000000000
-8.25175897707231
1162002.62587948840000
274364.86750610231000
