3.99950967058043
0.00000000000000
0.00000000000000
-3.99950967058043
761434.71779849997000
228908.02298768680000
