3.99896588760109
0.00000000000000
0.00000000000000
-3.99896588760109
828314.45007767866000
228345.76124722222000
