8.24800935483654
0.00000000000000
0.00000000000000
-8.24800935483654
928642.99900467740000
227873.61573692347000
