8.24933451466495
0.00000000000000
0.00000000000000
-8.24933451466495
1028872.62466725730000
227933.75570238385000
