8.25200109634898
0.00000000000000
0.00000000000000
-8.25200109634898
1229110.62600054820000
229540.45560501929000
