8.24869216285879
0.00000000000000
0.00000000000000
-8.24869216285879
1028967.31184608140000
182381.41933317910000
