8.24638892656367
0.00000000000000
0.00000000000000
-8.24638892656367
894842.74819446332000
136861.69479191976000
