8.65393093718740
0.00000000000000
0.00000000000000
-8.65393093718740
760087.95196546859000
92231.71244568741500
