8.58968330344942
0.00000000000000
0.00000000000000
-8.58968330344942
928306.29484165169000
91199.65006216469900
