8.59151506307535
0.00000000000000
0.00000000000000
-8.59151506307535
1029148.42075753150000
91271.43939758779000
